{
 "version": 1.0,
 "tileBundlesPath": "./tile",
 "storageInfo": {
  "packetSize": 128,
  "storageFormat": "esriMapCacheStorageModeCompactV2"
 },
 "tileImageInfo": {
  "format": "MIXED",
  "compressionQuality": 75,
  "bandCount": 1,
  "lercError": 0
 },
 "tileInfo": {
  "spatialReference": {
   "wkid": 2600,
   "latestWkid": 3346
  },
  "origin": {
   "x": -5122000,
   "y": 10000100
  },
  "rows": 256,
  "cols": 256,
  "dpi": 96,
  "lods": [
   {
    "level": 0,
    "resolution": 132.2919312505292,
    "scale": 500000
   },
   {
    "level": 1,
    "resolution": 52.91677250021167,
    "scale": 200000
   },
   {
    "level": 2,
    "resolution": 26.458386250105836,
    "scale": 100000
   },
   {
    "level": 3,
    "resolution": 13.229193125052918,
    "scale": 50000
   },
   {
    "level": 4,
    "resolution": 6.614596562526459,
    "scale": 25000
   },
   {
    "level": 5,
    "resolution": 2.6458386250105836,
    "scale": 10000
   },
   {
    "level": 6,
    "resolution": 1.3229193125052918,
    "scale": 5000
   },
   {
    "level": 7,
    "resolution": 0.5291677250021167,
    "scale": 2000
   },
   {
    "level": 8,
    "resolution": 0.26458386250105836,
    "scale": 1000
   },
   {
    "level": 9,
    "resolution": 0.13229193125052918,
    "scale": 500
   },
   {
    "level": 10,
    "resolution": 0.05291677250021167,
    "scale": 200
   }
  ],
  "format": "MIXED",
  "compressionQuality": 75,
  "bandCount": 1,
  "lercError": 0,
  "storageFormat": "esriMapCacheStorageModeCompactV2",
  "packetSize": 128
 },
 "name": "plansetes_anzemis",
 "serviceDescription": "",
 "spatialReference": {
  "wkid": 2600,
  "latestWkid": 3346,
  "xyTolerance": 0.001,
  "zTolerance": 0.001,
  "mTolerance": 0.001,
  "falseX": -5122000,
  "falseY": -10000100,
  "xyUnits": 10000,
  "falseZ": -100000,
  "zUnits": 10000,
  "falseM": -100000,
  "mUnits": 10000
 },
 "units": "esriMeters",
 "minLOD": 0,
 "maxLOD": 9,
 "resampling": true,
 "layers": [
  {
   "id": 0,
   "name": "plansetes_anzemis",
   "parentLayerId": -1,
   "defaultVisibility": true,
   "subLayerIds": [
    1,
    2,
    3
   ],
   "minScale": 0,
   "maxScale": 0,
   "type": "Mosaic Layer",
   "supportsDynamicLegends": false,
   "layerId": 0,
   "layerName": "plansetes_anzemis",
   "serviceItemId": "5494d54b350744beb93fcbf3db55e42a"
  },
  {
   "id": 1,
   "name": "Boundary",
   "parentLayerId": 0,
   "defaultVisibility": false,
   "subLayerIds": null,
   "minScale": 0,
   "maxScale": 0,
   "type": "Feature Layer",
   "geometryType": "esriGeometryPolygon",
   "supportsDynamicLegends": true,
   "legend": [
    {
     "label": "",
     "imageData": "iVBORw0KGgoAAAANSUhEUgAAABQAAAAUCAYAAACNiR0NAAAACXBIWXMAAA7EAAAOxAGVKw4bAAAAO0lEQVQ4je3VIQ4AMAxCUZZw/yuzrK4a3HhpKr+oKQUIQXzrzPgEaIJJbNBGP7E16GOgsTT4zQ0VfAMXpesGTbdHvcEAAAAASUVORK5CYII=",
     "contentType": "image/png",
     "groupId": "0",
     "height": 20,
     "width": 20,
     "layerId": 1,
     "layerName": "Boundary"
    }
   ],
   "layerId": 1,
   "layerName": "Boundary",
   "serviceItemId": "5494d54b350744beb93fcbf3db55e42a"
  },
  {
   "id": 2,
   "name": "Footprint",
   "parentLayerId": 0,
   "defaultVisibility": false,
   "subLayerIds": null,
   "minScale": 0,
   "maxScale": 0,
   "type": "Feature Layer",
   "geometryType": "esriGeometryPolygon",
   "supportsDynamicLegends": true,
   "legend": [
    {
     "label": "",
     "imageData": "iVBORw0KGgoAAAANSUhEUgAAABQAAAAUCAYAAACNiR0NAAAACXBIWXMAAA7EAAAOxAGVKw4bAAAAO0lEQVQ4je3VIQ4AMAxCUZpw/yuzZFPV4MYXlU9gSghCMN47mIgm6IHBWNCOPrEr6MeAsSr4z4bKvYEDou0GTfPqtc0AAAAASUVORK5CYII=",
     "contentType": "image/png",
     "groupId": "0",
     "height": 20,
     "width": 20,
     "layerId": 2,
     "layerName": "Footprint"
    }
   ],
   "layerId": 2,
   "layerName": "Footprint",
   "serviceItemId": "5494d54b350744beb93fcbf3db55e42a"
  },
  {
   "id": 3,
   "name": "Image",
   "parentLayerId": 0,
   "defaultVisibility": true,
   "subLayerIds": null,
   "minScale": 0,
   "maxScale": 0,
   "type": "Raster Layer",
   "supportsDynamicLegends": true,
   "legend": [
    {
     "label": "ADVANCEDLABELS - 255",
     "imageData": "iVBORw0KGgoAAAANSUhEUgAAABQAAAA8CAYAAABmdppWAAAACXBIWXMAAA7EAAAOxAGVKw4bAAAATUlEQVRYhe3MIQEAAAzDsIP613w83MFFQLgyFmr4Ii30KBxhoUfhCAs9CkdY6FE4wkKPwhEWehSOsNCjcISFHoUjLPQoHGGhR+EIC097H5sA8fOigMIAAAAASUVORK5CYII=",
     "contentType": "image/png",
     "groupId": "0",
     "height": 60,
     "width": 20,
     "layerId": 3,
     "layerName": "Image"
    },
    {
     "label": "ADVANCEDLABELS - 204",
     "imageData": "iVBORw0KGgoAAAANSUhEUgAAABQAAAA8CAYAAABmdppWAAAACXBIWXMAAA7EAAAOxAGVKw4bAAAAlklEQVRYhe2XQQ6AMAgEofb/f/Viqi3g2bNz2ER5wGS6UJp2g6v/wNfV3yOe9QM/kWFVOQo0s0YDXd5w+5jhvsPA1mCgO5zhkDe8hrrhdHXDNenBdtjwkDeMgA2D3ocnfZcz1JuStOGUP/JMussOGxadYSW9D1M9w6ANCzdc6hlm0Rma+ptSqZ5h4k1xejmE+tgs+ONzA1b/N81nL5lZAAAAAElFTkSuQmCC",
     "contentType": "image/png",
     "groupId": "0",
     "height": 60,
     "width": 20,
     "layerId": 3,
     "layerName": "Image"
    },
    {
     "label": "ADVANCEDLABELS - 153",
     "imageData": "iVBORw0KGgoAAAANSUhEUgAAABQAAAA8CAYAAABmdppWAAAACXBIWXMAAA7EAAAOxAGVKw4bAAAAn0lEQVRYheWWgQ3DMAzD5C5P75Wd1JtmaU+wgIDlAIK25STnc+ct8Jyv9EKBsq5yw8CGu7ChcUPThgMbZtsNF++hYeCqPYemS07/pqi9h8Z7mPopiy/5QoFx4NhEgwJFA/MAUPWGAwM95bERDDQf7JQbrvHYpD7YgociumSjPJ3ghsFXz+1viqZ8l1U/FOO3jeiSPf+3KRfJe+LnAE/5ByCfboRGkP5gAAAAAElFTkSuQmCC",
     "contentType": "image/png",
     "groupId": "0",
     "height": 60,
     "width": 20,
     "layerId": 3,
     "layerName": "Image"
    },
    {
     "label": "ADVANCEDLABELS - 102",
     "imageData": "iVBORw0KGgoAAAANSUhEUgAAABQAAAA8CAYAAABmdppWAAAACXBIWXMAAA7EAAAOxAGVKw4bAAAAmElEQVRYheWVwQ3DUAxC+ZWn6o6Zr4vkWr8s8Q5IYQCEDdjzve5fRAzkqIQbmTDLaR8ZWeHKCv+07xCbMDJmbVOoN2XtLsOxCVeODbLCtV1ee2TWNiUuZuFTfr7iYvwur57D2NWj/B7iKzyRc0j9DlOfw6T8SckYcGeeyEucvFHh63KY+h1GVwj1XXYx6c9h6k2h/x6qfHkA3CltKpJX5GYAAAAASUVORK5CYII=",
     "contentType": "image/png",
     "groupId": "0",
     "height": 60,
     "width": 20,
     "layerId": 3,
     "layerName": "Image"
    },
    {
     "label": "ADVANCEDLABELS - 51",
     "imageData": "iVBORw0KGgoAAAANSUhEUgAAABQAAAA8CAYAAABmdppWAAAACXBIWXMAAA7EAAAOxAGVKw4bAAAAgElEQVRYhe2XywmAUAwE50FOFmnZFuPhrU2MEIlbwLD5bCB1nNeNqCIxeZSL4wWHyCqylwuUVf6Uow8l0xzygcWODcQFBjt6MXH8azMmy2vYtYmK4xv3cMtAWTVyypGBu3uW07+HssovOd1LZt5bwcBrk/YOmVdy2juk+2tmO3wAcKZU1yPJ4l8AAAAASUVORK5CYII=",
     "contentType": "image/png",
     "groupId": "0",
     "height": 60,
     "width": 20,
     "layerId": 3,
     "layerName": "Image"
    },
    {
     "label": "ADVANCEDLABELS - 0",
     "imageData": "iVBORw0KGgoAAAANSUhEUgAAABQAAAA8CAYAAABmdppWAAAACXBIWXMAAA7EAAAOxAGVKw4bAAAAbUlEQVRYhe2WwQ3AMAjEXIm9um3H7HWI+oF0uQEsTCDJXPcTxAxReQzYwMjA+Mq09ZDCCjnKPzNyCzmnvHL1clZv35uSwguWPuXIQNYDs/47F135lYFy5sxhx+rRpxwZyHpg+irMfmVkoD+Hbj60D06JcCaX1AAAAABJRU5ErkJggg==",
     "contentType": "image/png",
     "groupId": "0",
     "height": 60,
     "width": 20,
     "layerId": 3,
     "layerName": "Image"
    }
   ],
   "layerId": 3,
   "layerName": "Image",
   "serviceItemId": "5494d54b350744beb93fcbf3db55e42a"
  }
 ],
 "initialExtent": {
  "xmin": 587804.3821,
  "ymin": 6120317.692600001,
  "xmax": 591822.2538999999,
  "ymax": 6123390.381899999,
  "spatialReference": {
   "wkid": 2600,
   "latestWkid": 3346
  }
 },
 "fullExtent": {
  "xmin": 587804.3821,
  "ymin": 6120317.692600001,
  "xmax": 591822.2538999999,
  "ymax": 6123390.381899999,
  "spatialReference": {
   "wkid": 2600,
   "latestWkid": 3346
  }
 },
 "minScale": 0,
 "maxScale": 0,
 "exportTilesAllowed": false,
 "maxExportTilesCount": 0,
 "currentVersion": 11.1,
 "mapName": "plansetes_anzemis",
 "singleFusedMapCache": true,
 "type": "MapServer",
 "supportedExtensions": "",
 "capabilities": "TilesOnly,Tilemap",
 "serviceItemId": "5494d54b350744beb93fcbf3db55e42a"
}
