{
 "version": 1.0,
 "tileBundlesPath": "./tile",
 "storageInfo": {
  "packetSize": 128,
  "storageFormat": "esriMapCacheStorageModeCompactV2"
 },
 "tileImageInfo": {
  "format": "MIXED",
  "compressionQuality": 75,
  "bandCount": 1,
  "lercError": 0
 },
 "tileInfo": {
  "spatialReference": {
   "wkid": 2600,
   "latestWkid": 3346
  },
  "origin": {
   "x": -5122000,
   "y": 10000100
  },
  "rows": 256,
  "cols": 256,
  "dpi": 96,
  "lods": [
   {
    "level": 0,
    "resolution": 132.2919312505292,
    "scale": 500000
   },
   {
    "level": 1,
    "resolution": 52.91677250021167,
    "scale": 200000
   },
   {
    "level": 2,
    "resolution": 26.458386250105836,
    "scale": 100000
   },
   {
    "level": 3,
    "resolution": 13.229193125052918,
    "scale": 50000
   },
   {
    "level": 4,
    "resolution": 6.614596562526459,
    "scale": 25000
   },
   {
    "level": 5,
    "resolution": 2.6458386250105836,
    "scale": 10000
   },
   {
    "level": 6,
    "resolution": 1.3229193125052918,
    "scale": 5000
   },
   {
    "level": 7,
    "resolution": 0.5291677250021167,
    "scale": 2000
   },
   {
    "level": 8,
    "resolution": 0.26458386250105836,
    "scale": 1000
   },
   {
    "level": 9,
    "resolution": 0.13229193125052918,
    "scale": 500
   }
  ],
  "format": "MIXED",
  "compressionQuality": 75,
  "bandCount": 1,
  "lercError": 0,
  "storageFormat": "esriMapCacheStorageModeCompactV2",
  "packetSize": 128
 },
 "name": "pozemis",
 "serviceDescription": "",
 "spatialReference": {
  "wkid": 2600,
  "latestWkid": 3346,
  "xyTolerance": 0.001,
  "zTolerance": 0.001,
  "mTolerance": 0.001,
  "falseX": -5122000,
  "falseY": -10000100,
  "xyUnits": 10000,
  "falseZ": -100000,
  "zUnits": 10000,
  "falseM": -100000,
  "mUnits": 10000
 },
 "units": "esriMeters",
 "minLOD": 0,
 "maxLOD": 9,
 "resampling": true,
 "layers": [
  {
   "id": 0,
   "name": "Nom_vt_Moletai_M500",
   "parentLayerId": -1,
   "defaultVisibility": false,
   "subLayerIds": null,
   "minScale": 0,
   "maxScale": 5000,
   "type": "Feature Layer",
   "geometryType": "esriGeometryPolygon",
   "supportsDynamicLegends": true,
   "legend": [
    {
     "label": "",
     "imageData": "iVBORw0KGgoAAAANSUhEUgAAABQAAAAUCAYAAACNiR0NAAAACXBIWXMAAA7EAAAOxAGVKw4bAAAALUlEQVQ4jWNhYGD4z0BFwAKlGalk3n8WwmpIA6MGjho4auCogaMGohpItWoAAFaOA08xGWr1AAAAAElFTkSuQmCC",
     "contentType": "image/png",
     "groupId": "0",
     "height": 20,
     "width": 20,
     "layerId": 0,
     "layerName": "Nom_vt_Moletai_M500"
    }
   ],
   "layerId": 0,
   "layerName": "Nom_vt_Moletai_M500",
   "serviceItemId": "479d9f9ecc5c402e8e511772b59f0a7b"
  },
  {
   "id": 1,
   "name": "plansetes_pozemis",
   "parentLayerId": -1,
   "defaultVisibility": true,
   "subLayerIds": [
    2,
    3,
    4
   ],
   "minScale": 0,
   "maxScale": 0,
   "type": "Mosaic Layer",
   "supportsDynamicLegends": false,
   "layerId": 1,
   "layerName": "plansetes_pozemis",
   "serviceItemId": "479d9f9ecc5c402e8e511772b59f0a7b"
  },
  {
   "id": 2,
   "name": "Boundary",
   "parentLayerId": 1,
   "defaultVisibility": false,
   "subLayerIds": null,
   "minScale": 0,
   "maxScale": 0,
   "type": "Feature Layer",
   "geometryType": "esriGeometryPolygon",
   "supportsDynamicLegends": true,
   "legend": [
    {
     "label": "",
     "imageData": "iVBORw0KGgoAAAANSUhEUgAAABQAAAAUCAYAAACNiR0NAAAACXBIWXMAAA7EAAAOxAGVKw4bAAAAMElEQVQ4je3VMREAAAzCwHCHf8t0rQBGIuDXOBCKGUCgBhaIG9Bv4MCBAwc+sLmBA6XrBk33Or5UAAAAAElFTkSuQmCC",
     "contentType": "image/png",
     "groupId": "0",
     "height": 20,
     "width": 20,
     "layerId": 2,
     "layerName": "Boundary"
    }
   ],
   "layerId": 2,
   "layerName": "Boundary",
   "serviceItemId": "479d9f9ecc5c402e8e511772b59f0a7b"
  },
  {
   "id": 3,
   "name": "Footprint",
   "parentLayerId": 1,
   "defaultVisibility": false,
   "subLayerIds": null,
   "minScale": 0,
   "maxScale": 0,
   "type": "Feature Layer",
   "geometryType": "esriGeometryPolygon",
   "supportsDynamicLegends": true,
   "legend": [
    {
     "label": "",
     "imageData": "iVBORw0KGgoAAAANSUhEUgAAABQAAAAUCAYAAACNiR0NAAAACXBIWXMAAA7EAAAOxAGVKw4bAAAAMElEQVQ4je3VMREAAAzCwHCHf8t0rQBGIuDXmBCKGQChihbiCvQaOHDgwIEfLG7gAKLtBk2aEx7QAAAAAElFTkSuQmCC",
     "contentType": "image/png",
     "groupId": "0",
     "height": 20,
     "width": 20,
     "layerId": 3,
     "layerName": "Footprint"
    }
   ],
   "layerId": 3,
   "layerName": "Footprint",
   "serviceItemId": "479d9f9ecc5c402e8e511772b59f0a7b"
  },
  {
   "id": 4,
   "name": "Image",
   "parentLayerId": 1,
   "defaultVisibility": true,
   "subLayerIds": null,
   "minScale": 10000,
   "maxScale": 0,
   "type": "Raster Layer",
   "supportsDynamicLegends": true,
   "legend": [
    {
     "label": "255 - 0",
     "imageData": "iVBORw0KGgoAAAANSUhEUgAAABQAAAA8CAYAAABmdppWAAAACXBIWXMAAA7EAAAOxAGVKw4bAAAAnUlEQVRYhe2WQQoEIQwEZzH7/596VRJj5jI/2FpocASvRdvdCVpVfS7w2HNR4BcF9t5ZhWbGAscYLDAiWA9ba6zCtRbuIfvkOSercO/NAqtKvDYRIV4bHIh76O6swszEn8wC3Z31EB89/drgKeM9xGuTmayH+injCvHRwxXixT4zZdxD8fX1j21zWm30ge8PFgGK9xAP5R2934HyHt7Mm6by4o8H3gAAAABJRU5ErkJggg==",
     "contentType": "image/png",
     "groupId": "0",
     "height": 60,
     "width": 20,
     "layerId": 4,
     "layerName": "Image"
    }
   ],
   "layerId": 4,
   "layerName": "Image",
   "serviceItemId": "479d9f9ecc5c402e8e511772b59f0a7b"
  }
 ],
 "initialExtent": {
  "xmin": 589520.4324,
  "ymin": 6121891.7385,
  "xmax": 591301.2086,
  "ymax": 6122869.2887,
  "spatialReference": {
   "wkid": 2600,
   "latestWkid": 3346
  }
 },
 "fullExtent": {
  "xmin": 589520.4324,
  "ymin": 6121891.7385,
  "xmax": 591301.2086,
  "ymax": 6122869.2887,
  "spatialReference": {
   "wkid": 2600,
   "latestWkid": 3346
  }
 },
 "minScale": 0,
 "maxScale": 0,
 "exportTilesAllowed": false,
 "maxExportTilesCount": 0,
 "currentVersion": 11.1,
 "mapName": "pozemis",
 "singleFusedMapCache": true,
 "type": "MapServer",
 "supportedExtensions": "",
 "capabilities": "TilesOnly,Tilemap",
 "serviceItemId": "479d9f9ecc5c402e8e511772b59f0a7b"
}
