{
 "currentVersion": 11.4,
 "cimVersion": "3.4.0",
 "serviceDescription": "",
 "mapName": "Rajonas",
 "description": "",
 "copyrightText": "",
 "supportsDynamicLayers": false,
 "layers": [
  {
   "id": 0,
   "name": "Topo_M2000",
   "parentLayerId": -1,
   "defaultVisibility": true,
   "subLayerIds": null,
   "minScale": 50000,
   "maxScale": 0,
   "type": "Raster Layer",
   "supportsDynamicLegends": true
  }
 ],
 "tables": [],
 "spatialReference": {
  "wkid": 2600,
  "latestWkid": 3346,
  "vcsWkid": 105704,
  "latestVcsWkid": 9666,
  "xyTolerance": 0.001,
  "zTolerance": 0.001,
  "mTolerance": 0.001,
  "falseX": -5122000,
  "falseY": -10000100,
  "xyUnits": 10000,
  "falseZ": -100000,
  "zUnits": 10000,
  "falseM": -100000,
  "mUnits": 10000
 },
 "singleFusedMapCache": true,
 "tileInfo": {
  "rows": 256,
  "cols": 256,
  "dpi": 96,
  "format": "MIXED",
  "compressionQuality": 75,
  "origin": {
   "x": -5122000,
   "y": 10000100
  },
  "spatialReference": {
   "wkid": 2600,
   "latestWkid": 3346,
   "xyTolerance": 0.001,
   "zTolerance": 0.001,
   "mTolerance": 0.001,
   "falseX": -5122000,
   "falseY": -10000100,
   "xyUnits": 4.503554591824577E8,
   "falseZ": -100000,
   "zUnits": 10000,
   "falseM": -100000,
   "mUnits": 10000
  },
  "lods": [
   {
    "level": 0,
    "resolution": 132.2919312505292,
    "scale": 500000
   },
   {
    "level": 1,
    "resolution": 52.91677250021167,
    "scale": 200000
   },
   {
    "level": 2,
    "resolution": 26.458386250105836,
    "scale": 100000
   },
   {
    "level": 3,
    "resolution": 13.229193125052918,
    "scale": 50000
   },
   {
    "level": 4,
    "resolution": 6.614596562526459,
    "scale": 25000
   },
   {
    "level": 5,
    "resolution": 2.6458386250105836,
    "scale": 10000
   },
   {
    "level": 6,
    "resolution": 1.3229193125052918,
    "scale": 5000
   },
   {
    "level": 7,
    "resolution": 0.5291677250021167,
    "scale": 2000
   },
   {
    "level": 8,
    "resolution": 0.26458386250105836,
    "scale": 1000
   },
   {
    "level": 9,
    "resolution": 0.13229193125052918,
    "scale": 500
   },
   {
    "level": 10,
    "resolution": 0.05291677250021167,
    "scale": 200
   }
  ]
 },
 "storageInfo": {
  "storageFormat": "esriMapCacheStorageModeCompactV2",
  "packetSize": 128
 },
 "initialExtent": {
  "xmin": 577678.5989928104,
  "ymin": 6118135.8093436025,
  "xmax": 591358.3496226268,
  "ymax": 6129153.503237285,
  "spatialReference": {
   "wkid": 2600,
   "latestWkid": 3346,
   "vcsWkid": 105704,
   "latestVcsWkid": 9666,
   "xyTolerance": 0.001,
   "zTolerance": 0.001,
   "mTolerance": 0.001,
   "falseX": -5122000,
   "falseY": -10000100,
   "xyUnits": 10000,
   "falseZ": -100000,
   "zUnits": 10000,
   "falseM": -100000,
   "mUnits": 10000
  }
 },
 "fullExtent": {
  "xmin": 570388.1640419475,
  "ymin": 6102195.839959544,
  "xmax": 611260.4840419462,
  "ymax": 6141051.519959542,
  "spatialReference": {
   "wkid": 2600,
   "latestWkid": 3346,
   "vcsWkid": 105704,
   "latestVcsWkid": 9666,
   "xyTolerance": 0.001,
   "zTolerance": 0.001,
   "mTolerance": 0.001,
   "falseX": -5122000,
   "falseY": -10000100,
   "xyUnits": 10000,
   "falseZ": -100000,
   "zUnits": 10000,
   "falseM": -100000,
   "mUnits": 10000
  }
 },
 "datesInUnknownTimezone": false,
 "units": "esriMeters",
 "supportedImageFormatTypes": "PNG32,PNG24,PNG,JPG,DIB,TIFF,EMF,PS,PDF,GIF,SVG,SVGZ,BMP",
 "documentInfo": {
  "Title": "C:\\Users\\hnit\\Documents\\ArcGIS\\Projects\\Migravimas\\Migravimas.aprx",
  "Author": "",
  "Comments": "",
  "Subject": "",
  "Category": "",
  "Version": "3.4.0",
  "AntialiasingMode": "None",
  "TextAntialiasingMode": "Force",
  "Keywords": ""
 },
 "supportsQueryDomains": true,
 "supportedQueryFormats": "JSON, geoJSON, PBF",
 "referenceScale": 0.0,
 "datumTransformations": [
  {
   "geoTransforms": [
    {
     "wkid": 1283,
     "latestWkid": 1283,
     "transformForward": false,
     "name": "LKS_1994_To_WGS_1984"
    }
   ]
  },
  {
   "geoTransforms": [
    {
     "wkid": 1283,
     "latestWkid": 1283,
     "transformForward": true,
     "name": "LKS_1994_To_WGS_1984"
    }
   ]
  }
 ],
 "supportsDatumTransformation": true,
 "heightModelInfo": {
  "heightModel": "gravity_related_height",
  "vertCRS": "LAS07_height",
  "heightUnit": "meter"
 },
 "supportsVCSProjection": true,
 "archivingInfo": {
  "supportsHistoricMoment": false
 },
 "supportsClipping": true,
 "supportsSpatialFilter": true,
 "supportsTimeRelation": true,
 "supportsQueryDataElements": true,
 "mapUnits": {
  "uwkid": 9001
 },
 "maxSelectionCount": 2000,
 "maxRecordCount": 1000,
 "maxImageHeight": 4096,
 "maxImageWidth": 4096,
 "capabilities": "TilesOnly,Tilemap",
 "minScale": 500000,
 "maxScale": 800,
 "exportTilesAllowed": false,
 "maxExportTilesCount": 100000,
 "supportedExtensions": "",
 "serviceItemId": "6d72ad40db914d358a07994a47d055e1"
}
